BEGIN:VCALENDAR
VERSION:2.0
PRODID:-//DHD Prodüksiyon - ECPv6.15.18//NONSGML v1.0//EN
CALSCALE:GREGORIAN
METHOD:PUBLISH
X-WR-CALNAME:DHD Prodüksiyon
X-ORIGINAL-URL:https://www.dhdproduksiyon.com
X-WR-CALDESC:DHD Prodüksiyon için etkinlikler
REFRESH-INTERVAL;VALUE=DURATION:PT1H
X-Robots-Tag:noindex
X-PUBLISHED-TTL:PT1H
BEGIN:VTIMEZONE
TZID:UTC
BEGIN:STANDARD
TZOFFSETFROM:+0000
TZOFFSETTO:+0000
TZNAME:UTC
DTSTART:20250101T000000
END:STANDARD
END:VTIMEZONE
BEGIN:VEVENT
DTSTART;TZID=UTC:20260924T200000
DTEND;TZID=UTC:20260924T200000
DTSTAMP:20260420T013614
CREATED:20200428T102335Z
LAST-MODIFIED:20260418T145823Z
UID:1196-1790280000-1790280000@www.dhdproduksiyon.com
SUMMARY:İstanbul | Harbiye Açık Hava Tiyatrosu
DESCRIPTION:Dünyaca ünlü Filistinli müzik grubu Le Trio Joubran\, 24 Eylül 2026 tarihinde İstanbul’da sahne alıyor.Harbiye Açıkhava Tiyatrosu’nda gerçekleşecek bu özel konser\, müziğin evrensel diliyle güçlü bir atmosfer sunmaya hazırlanıyor. \nDHD Prodüksiyon imzası taşıyan etkinlikte; sahne tasarımı\, ışık kurgusu ve teknik altyapı en ince detayına kadar planlanarak izleyiciye üst düzey bir deneyim sunulacak. \nKonser boyunca gerçekleştirilecek profesyonel drone çekimleri ve çok açılı video prodüksiyonu ile sahnedeki her an farklı perspektiflerden kaydedilecek; izleyici yalnızca bir konser değil\, bütüncül bir sahne deneyiminin parçası olacak.
URL:https://www.dhdproduksiyon.com/etkinlik/istanbul-harbiye-acik-hava-tiyatrosu/
LOCATION:Harbiye Açık Hava Tiyatrosu\, Harbiye\, Taşkışla Cd. No:8\, İstanbul\, Şişli\, 34367\, Turkey
CATEGORIES:Konser
ATTACH;FMTTYPE=image/webp:https://www.dhdproduksiyon.com/wp-content/uploads/2026/04/istanbul-harbiye-1.webp
ORGANIZER;CN="DHD Prod%C3%BCksiyon":MAILTO:info@dhdproduksiyon.com
END:VEVENT
END:VCALENDAR