BEGIN:VCALENDAR
VERSION:2.0
PRODID:-//DHD Prodüksiyon - ECPv6.15.18//NONSGML v1.0//EN
CALSCALE:GREGORIAN
METHOD:PUBLISH
X-WR-CALNAME:DHD Prodüksiyon
X-ORIGINAL-URL:https://www.dhdproduksiyon.com
X-WR-CALDESC:DHD Prodüksiyon için etkinlikler
REFRESH-INTERVAL;VALUE=DURATION:PT1H
X-Robots-Tag:noindex
X-PUBLISHED-TTL:PT1H
BEGIN:VTIMEZONE
TZID:Europe/Moscow
BEGIN:STANDARD
TZOFFSETFROM:+0300
TZOFFSETTO:+0300
TZNAME:MSK
DTSTART:20250101T000000
END:STANDARD
END:VTIMEZONE
BEGIN:VEVENT
DTSTART;TZID=Europe/Moscow:20260602T200000
DTEND;TZID=Europe/Moscow:20260602T200000
DTSTAMP:20260419T193356
CREATED:20260409T142944Z
LAST-MODIFIED:20260418T145734Z
UID:21281-1780430400-1780430400@www.dhdproduksiyon.com
SUMMARY:Şanlıurfa | Orpheus Açık Hava Amfi Sahnesi
DESCRIPTION:Dünyaca ünlü Filistinli müzik grubu Le Trio Joubran\, 2 Haziran’da Şanlıurfa’da sahne alıyor.Orpheus Açık Hava Amfi Sahnesi’nde gerçekleşecek bu özel konser\, müziğin evrensel diliyle izleyicilere etkileyici bir atmosfer sunmaya hazırlanıyor. \nDHD Prodüksiyon imzası taşıyan etkinlikte; sahne tasarımı\, ışık kurgusu ve teknik altyapı titizlikle planlanarak güçlü bir sahne deneyimi oluşturulacak. \nGecenin her anı\, profesyonel prodüksiyon yaklaşımıyla ele alınarak izleyiciye sadece bir konser değil\, bütüncül bir deneyim sunulması hedefleniyor.
URL:https://www.dhdproduksiyon.com/etkinlik/sanliurfa-orpheus-acik-hava-amfi-sahnesi/
LOCATION:Orpheus Açık Hava Amfi Sahnesi\, Haleplibahçe\, Haleplibahçe Cd. No: 50\, Şanlıurfa\, Eyyübiye\, 63200\, Turkey
CATEGORIES:Konser
ATTACH;FMTTYPE=image/webp:https://www.dhdproduksiyon.com/wp-content/uploads/2026/04/sanliurfa-orpheus-1.webp
ORGANIZER;CN="DHD Prod%C3%BCksiyon":MAILTO:info@dhdproduksiyon.com
END:VEVENT
END:VCALENDAR