BEGIN:VCALENDAR
VERSION:2.0
PRODID:-//DHD Prodüksiyon - ECPv6.15.18//NONSGML v1.0//EN
CALSCALE:GREGORIAN
METHOD:PUBLISH
X-WR-CALNAME:DHD Prodüksiyon
X-ORIGINAL-URL:https://www.dhdproduksiyon.com
X-WR-CALDESC:DHD Prodüksiyon için etkinlikler
REFRESH-INTERVAL;VALUE=DURATION:PT1H
X-Robots-Tag:noindex
X-PUBLISHED-TTL:PT1H
BEGIN:VTIMEZONE
TZID:Europe/Moscow
BEGIN:STANDARD
TZOFFSETFROM:+0300
TZOFFSETTO:+0300
TZNAME:MSK
DTSTART:20250101T000000
END:STANDARD
END:VTIMEZONE
BEGIN:VEVENT
DTSTART;TZID=Europe/Moscow:20260603T200000
DTEND;TZID=Europe/Moscow:20260603T200000
DTSTAMP:20260419T195756
CREATED:20260409T143540Z
LAST-MODIFIED:20260418T145805Z
UID:21294-1780516800-1780516800@www.dhdproduksiyon.com
SUMMARY:Diyarbakır | Sezai Karakoç Kültür Merkezi
DESCRIPTION:Dünyaca ünlü Filistinli müzik grubu Le Trio Joubran\, 3 Haziran’da Diyarbakır’da sahne alıyor.Sezai Karakoç Kültür Merkezi’nde gerçekleşecek bu özel konser\, müziğin evrensel diliyle izleyicilere etkileyici bir atmosfer sunmaya hazırlanıyor. \nDHD Prodüksiyon imzası taşıyan etkinlikte; sahne tasarımı\, ışık kurgusu ve teknik altyapı titizlikle planlanarak güçlü bir sahne deneyimi oluşturulacak. \nGecenin her anı\, profesyonel prodüksiyon yaklaşımıyla ele alınarak izleyiciye sadece bir konser değil\, bütüncül bir deneyim sunulması hedefleniyor.
URL:https://www.dhdproduksiyon.com/etkinlik/diyarbakir-sezai-karakoc-kultur-merkezi/
LOCATION:Diyarbakır Sezai Karakoç Kültür Merkezi\, Yenişehir\, Istasyon Cd No:65\, Diyarbakır\, Yenişehir\, 21100\, Turkey
CATEGORIES:Konser
ATTACH;FMTTYPE=image/webp:https://www.dhdproduksiyon.com/wp-content/uploads/2026/04/diyarbakir-sezaikarakoc-1.webp
END:VEVENT
END:VCALENDAR